BEGIN:VCALENDAR
VERSION:2.0
PRODID:-//National Limousine Association - ECPv6.15.20//NONSGML v1.0//EN
CALSCALE:GREGORIAN
METHOD:PUBLISH
X-ORIGINAL-URL:https://www.limo.org
X-WR-CALDESC:Events for National Limousine Association
REFRESH-INTERVAL;VALUE=DURATION:PT1H
X-Robots-Tag:noindex
X-PUBLISHED-TTL:PT1H
BEGIN:VTIMEZONE
TZID:America/New_York
BEGIN:DAYLIGHT
TZOFFSETFROM:-0500
TZOFFSETTO:-0400
TZNAME:EDT
DTSTART:20250309T070000
END:DAYLIGHT
BEGIN:STANDARD
TZOFFSETFROM:-0400
TZOFFSETTO:-0500
TZNAME:EST
DTSTART:20251102T060000
END:STANDARD
BEGIN:DAYLIGHT
TZOFFSETFROM:-0500
TZOFFSETTO:-0400
TZNAME:EDT
DTSTART:20260308T070000
END:DAYLIGHT
BEGIN:STANDARD
TZOFFSETFROM:-0400
TZOFFSETTO:-0500
TZNAME:EST
DTSTART:20261101T060000
END:STANDARD
BEGIN:DAYLIGHT
TZOFFSETFROM:-0500
TZOFFSETTO:-0400
TZNAME:EDT
DTSTART:20270314T070000
END:DAYLIGHT
BEGIN:STANDARD
TZOFFSETFROM:-0400
TZOFFSETTO:-0500
TZNAME:EST
DTSTART:20271107T060000
END:STANDARD
END:VTIMEZONE
BEGIN:VEVENT
DTSTART;TZID=America/New_York:20260514T130000
DTEND;TZID=America/New_York:20260514T140000
DTSTAMP:20260422T193358
CREATED:20260422T144143Z
LAST-MODIFIED:20260422T144143Z
UID:5025-1778763600-1778767200@www.limo.org
SUMMARY:Webinar: Tools to Find Your Voice While Navigating Workplace Dynamics
DESCRIPTION:The NLA/CD Women’s Leadership Council invites you to join an empowering and solutions-focused webinar designed to help women confidently navigate real-world workplace dynamics in the chauffeured transportation industry. This interactive session will explore common scenarios submitted anonymously by industry peers and focus on practical\, respectful strategies for responding in ways that are confident\, professional\, and effective. Participants will walk away with clear tools and approaches they can use immediately. \nThrough real examples and guided discussion\, attendees will learn how to: \n\nGive feedback that is tactful\, constructive\, and well-received\nEnsure ideas\, efforts\, and contributions are properly recognized\nAddress objectification or appearance-based assumptions with confidence\nNavigate gender-based expectations\, such as note-taking or office tasks\nRespond thoughtfully to jokes or comments that miss the mark\nHandle challenging interactions with supervisors\, colleagues\, or affiliates\n\nThis will be an organic\, authentic discussion where participants can see themselves reflected in the content and gain practical strategies to strengthen their voice\, credibility\, and presence in professional settings. \nLearn more about the webinar leaders! \nSubmit your scenarios and questions anonymously in advance of the webinar for live feedback. \nRegister to attend!
URL:https://www.limo.org/event-details/webinar-tools-to-find-your-voice-while-navigating-workplace-dynamics
END:VEVENT
END:VCALENDAR