BEGIN:VCALENDAR
VERSION:2.0
PRODID:-//National Limousine Association - ECPv6.15.20//NONSGML v1.0//EN
CALSCALE:GREGORIAN
METHOD:PUBLISH
X-WR-CALNAME:National Limousine Association
X-ORIGINAL-URL:https://www.limo.org
X-WR-CALDESC:Events for National Limousine Association
REFRESH-INTERVAL;VALUE=DURATION:PT1H
X-Robots-Tag:noindex
X-PUBLISHED-TTL:PT1H
BEGIN:VTIMEZONE
TZID:America/New_York
BEGIN:DAYLIGHT
TZOFFSETFROM:-0500
TZOFFSETTO:-0400
TZNAME:EDT
DTSTART:20250309T070000
END:DAYLIGHT
BEGIN:STANDARD
TZOFFSETFROM:-0400
TZOFFSETTO:-0500
TZNAME:EST
DTSTART:20251102T060000
END:STANDARD
BEGIN:DAYLIGHT
TZOFFSETFROM:-0500
TZOFFSETTO:-0400
TZNAME:EDT
DTSTART:20260308T070000
END:DAYLIGHT
BEGIN:STANDARD
TZOFFSETFROM:-0400
TZOFFSETTO:-0500
TZNAME:EST
DTSTART:20261101T060000
END:STANDARD
BEGIN:DAYLIGHT
TZOFFSETFROM:-0500
TZOFFSETTO:-0400
TZNAME:EDT
DTSTART:20270314T070000
END:DAYLIGHT
BEGIN:STANDARD
TZOFFSETFROM:-0400
TZOFFSETTO:-0500
TZNAME:EST
DTSTART:20271107T060000
END:STANDARD
END:VTIMEZONE
BEGIN:VEVENT
DTSTART;TZID=America/New_York:20260614T000000
DTEND;TZID=America/New_York:20260617T235959
DTSTAMP:20260422T175724
CREATED:20260422T144948Z
LAST-MODIFIED:20260422T144948Z
UID:5029-1781395200-1781740799@www.limo.org
SUMMARY:CD/NLA Executive Retreat
DESCRIPTION:This summer\, the CD/NLA Executive Retreat is back—and turning up the heat at the legendary Fontainebleau Miami Beach. Join us June 14-17 for a one-of-a-kind escape where big ideas\, bold conversations\, and a little South Florida magic come together for an unforgettable experience. \nBuilt for operators ready to level up\, and enjoy the ride while doing it\, our Executive Retreat serves up forward-thinking education\, effortless networking\, and (nearly) all-inclusive dining that keeps the good times rolling. Our signature offsite dinners take center stage when the sun goes down—delivering memorable nights in true Miami style. \nThe schedule is absolutely packed with can’t-miss moments\, but there’s still plenty of time to unwind your way. Lounge poolside\, soak in the ocean breeze\, or explore the Miami area. \nSpace\, which is limited to 200 operators\, fills up fast\, so be sure to register now to guarantee you don’t miss out on the event of the season. \nLearn more and reserve your spot to attend. 
URL:https://www.limo.org/event-details/cd-nla-executive-retreat-2
LOCATION:Fontainebleau Miami Beach\, 4441 Collins Ave\, Miami Beach\, FL\, 33140\, United States
END:VEVENT
END:VCALENDAR