BEGIN:VCALENDAR
VERSION:2.0
PRODID:-//National Limousine Association - ECPv6.15.20//NONSGML v1.0//EN
CALSCALE:GREGORIAN
METHOD:PUBLISH
X-ORIGINAL-URL:https://www.limo.org
X-WR-CALDESC:Events for National Limousine Association
REFRESH-INTERVAL;VALUE=DURATION:PT1H
X-Robots-Tag:noindex
X-PUBLISHED-TTL:PT1H
BEGIN:VTIMEZONE
TZID:America/New_York
BEGIN:DAYLIGHT
TZOFFSETFROM:-0500
TZOFFSETTO:-0400
TZNAME:EDT
DTSTART:20250309T070000
END:DAYLIGHT
BEGIN:STANDARD
TZOFFSETFROM:-0400
TZOFFSETTO:-0500
TZNAME:EST
DTSTART:20251102T060000
END:STANDARD
BEGIN:DAYLIGHT
TZOFFSETFROM:-0500
TZOFFSETTO:-0400
TZNAME:EDT
DTSTART:20260308T070000
END:DAYLIGHT
BEGIN:STANDARD
TZOFFSETFROM:-0400
TZOFFSETTO:-0500
TZNAME:EST
DTSTART:20261101T060000
END:STANDARD
BEGIN:DAYLIGHT
TZOFFSETFROM:-0500
TZOFFSETTO:-0400
TZNAME:EDT
DTSTART:20270314T070000
END:DAYLIGHT
BEGIN:STANDARD
TZOFFSETFROM:-0400
TZOFFSETTO:-0500
TZNAME:EST
DTSTART:20271107T060000
END:STANDARD
END:VTIMEZONE
BEGIN:VEVENT
DTSTART;TZID=America/New_York:20260519T130000
DTEND;TZID=America/New_York:20260519T140000
DTSTAMP:20260422T174701
CREATED:20260422T144452Z
LAST-MODIFIED:20260422T144452Z
UID:5027-1779195600-1779199200@www.limo.org
SUMMARY:Livestream: Are You Leaving Money on the Table? A Look at NLA Affinity and Discount Programs
DESCRIPTION:Join fellow NLA members for a candid\, member-driven discussion on making the most of the NLA Affinity and Discount Programs. Hear firsthand how seasoned operators are saving hundreds of dollars each year by applying proven strategies. This session is designed for open information sharing and practical takeaways. \nSign up to join the livestream!
URL:https://www.limo.org/event-details/livestream-are-you-leaving-money-on-the-table-a-look-at-nla-affinity-and-discount-programs
END:VEVENT
END:VCALENDAR